BEGIN:VCALENDAR
VERSION:2.0
PRODID:-//wp-events-plugin.com//7.2.3.1//EN
TZID:America/Chicago
X-WR-TIMEZONE:America/Chicago
BEGIN:VEVENT
UID:17@seccla.org
DTSTART;TZID=America/Chicago;VALUE=DATE:20190208
DTEND;TZID=America/Chicago;VALUE=DATE:20190212
DTSTAMP:20190114T021304Z
URL:https://seccla.org/events2/415/
SUMMARY:Happening #82
DESCRIPTION:\n\n&nbsp\;\nHAPPENING #82\nFebruary 8-10\, 2019\nRegistration 
 Deadline: February 6\, 2019\n&nbsp\;\n\nWho can attend Happening?  Happen
 ing is open to ALL current 9th-12th grade teenagers of any denomination wh
 o have not participated in Happening in the past.  If you have participat
 ed in Happening and would like to serve on staff you can email Mother Jane
 -Allison Wiggin-Nettles at jwigginnettles@edola.org.  You need not be Epi
 scopalian to attend\, however you must be committed to engage in theologic
 al reflection from a Christian perspective.\n\nWho is involved in the week
 end?  Happening is staffed by youth who have attended Happening in the pa
 st\, as well as adult "moms" and "dads".  There will be a nurse present t
 o administer all medicines\, other youth ministers\, and adults will also 
 be there to help supervise this amazing weekend.\n\nWhat should I bring to
  Happening?  Your favorite pillow\, throw blanket\, toiletries\, and enou
 gh clothes for the weekend including pajamas.  Lodging is 2-3 youth group
 ed by age and gender in rooms in the quad.  Linens and towels provided. 
  You must bring your own toiletries.\n\nAlso\, bring musical instruments i
 f you play them\, a great attitude\, and an open heart.  This is an "unpl
 ugged" retreat.  Any cell phones\, laptops\, iPads\, or other electronic 
 devices are returned at the end of the weekend.\n\nClosing ceremony:  Par
 ents\, siblings\, friends\, clergy\, and youth ministers are invited and e
 ncouraged to attend the closing ceremony at 11:00 am on Sunday\, February 
 10 in the chapel of the Holy Cross at SECC.  We want friends and family a
 t the closing for each participant and parents will be contacted with more
  details about the ceremony prior to the Happening weekend.\n\nAttendance:
   All participants must attend the entire event.  No arriving late or le
 aving early.\n\nRegistration Time:  7-7:30 pm on Friday\, February 8.  P
 lease make sure to eat dinner before arriving!!  You may arrive no earlie
 r than 6:45 pm.\n\nClosing Ceremony:  11 am on Sunday\, February 10\n\nCo
 st of Happening:  $150--Registration is online at SECCLA.ORG until Februa
 ry 6.\n\nScholarships are available\, please contact Mother Jane-Allison W
 iggin-Nettles\, jwigginnettles@edola.org.\n\nStaff:  The cost for staff m
 embers and adults is $150.\n\nAll adults and anyone over the age of 18 mus
 t register through contacting Mother Jane-Allison.\n\n&nbsp\;\n\n&nbsp\;
CATEGORIES:Youth Open Events
END:VEVENT
BEGIN:VTIMEZONE
TZID:America/Chicago
X-LIC-LOCATION:America/Chicago
BEGIN:STANDARD
DTSTART:20181104T010000
TZOFFSETFROM:-0500
TZOFFSETTO:-0600
TZNAME:CST
END:STANDARD
END:VTIMEZONE
END:VCALENDAR