BEGIN:VCALENDAR
VERSION:2.0
PRODID:-//wp-events-plugin.com//7.2.3.1//EN
TZID:America/Chicago
X-WR-TIMEZONE:America/Chicago
BEGIN:VEVENT
UID:35@seccla.org
DTSTART;TZID=America/Chicago:20200106T000000
DTEND;TZID=America/Chicago:20200108T000000
DTSTAMP:20191022T212538Z
URL:https://seccla.org/events2/college-of-presybters/
SUMMARY:College of Presybters
DESCRIPTION:The College of Presbyters meeting will begin on Monday afternoo
 n with Evening Prayer at 5:30 and dinner at 6.  It will end before lunch 
 on Wednesday.\n\nCost of the Event:\n\n$224 per person for single occupanc
 y for 2 nights and 5 meals\n\n$180 per person for double occupancy for 2 n
 ights and 5 meals\n\n$99 per person for day access for 3 days and 5 meals
CATEGORIES:Clergy/Laity Meetings
END:VEVENT
BEGIN:VTIMEZONE
TZID:America/Chicago
X-LIC-LOCATION:America/Chicago
BEGIN:STANDARD
DTSTART:20191103T010000
TZOFFSETFROM:-0500
TZOFFSETTO:-0600
TZNAME:CST
END:STANDARD
END:VTIMEZONE
END:VCALENDAR