BEGIN:VCALENDAR
VERSION:2.0
PRODID:-//wp-events-plugin.com//7.2.3.1//EN
TZID:America/Chicago
X-WR-TIMEZONE:America/Chicago
BEGIN:VEVENT
UID:25@seccla.org
DTSTART;TZID=America/Chicago:20200228T000000
DTEND;TZID=America/Chicago:20200301T000000
DTSTAMP:20200204T045656Z
URL:https://seccla.org/events2/edola-silent-retreat/
SUMMARY:EDoLA Silent Retreat
DESCRIPTION:EDoLA Silent Retreat \nFebruary 28-March 1\, 2020\n\nJoin Todd
  van Alstyne and John Pitzer for a Silent Retreat for the Episcopal Dioces
 e of Louisiana and their friends during the first weekend in Lent. The ret
 reat will be held at the Solomon Episcopal Conference Center and will incl
 ude an introduction to monastic spiritual practices\, adoration\, a labyri
 nth\, prayer\, teaching\, stations of the cross\, all in a quiet and peace
 ful setting. This contemplative weekend will include spiritual direction a
 nd sacramental support from Fr John as well as guided meditations and teac
 hing from Br Todd. The weekend will be full enough for you to engage and l
 oose enough to let you rest and go at your own pace. The cost for the week
 end is $315 per person for single occupancy or $285 per person double occu
 pancy.  We anticipate these spaces to fill up quickly so please reserve y
 our spot soon.
CATEGORIES:Adult Open Events
END:VEVENT
BEGIN:VTIMEZONE
TZID:America/Chicago
X-LIC-LOCATION:America/Chicago
BEGIN:STANDARD
DTSTART:20191103T010000
TZOFFSETFROM:-0500
TZOFFSETTO:-0600
TZNAME:CST
END:STANDARD
END:VTIMEZONE
END:VCALENDAR