BEGIN:VCALENDAR
VERSION:2.0
PRODID:-//wp-events-plugin.com//7.2.3.1//EN
TZID:America/Chicago
X-WR-TIMEZONE:America/Chicago
BEGIN:VEVENT
UID:31@seccla.org
DTSTART;TZID=America/Chicago:20190927T160000
DTEND;TZID=America/Chicago:20190929T130000
DTSTAMP:20190913T202222Z
URL:https://seccla.org/events2/jr-high-rally-2/
SUMMARY:Jr High Rally
DESCRIPTION:\n&nbsp\;\n\n&nbsp\;\n\n\nSmells\, Bells\, and Magical Spells\n
 After being sorted into your House\, you'll feel like you're flying for th
 e first time!  See the magical world with all new eyes after this weekend
 .\n\nCheck In:  Begins at 7:00 Pm on Friday\, September 27\, 2019.  Part
 icipants and staff will eat dinner at 6:30 PM in the dining hall.\n\nCheck
  Out:  Friends and family are welcome to attend our closing service in th
 e chapel at 11 AM on Sunday\, September 29.  Lunch is available at 12 PM 
 for everyone before you head home.  Please let the Solomon Center know if
  any friends or family will be staying for lunch!\n\nCost:  $150\n\nSchol
 arships:  Please click on the scholarship ticket if you are receiving a s
 cholarship.\n\nT-Shirts:  Shirts in the correct size cannot be guaranteed
  for those registering after September 13.\n\nDress Code: Comfortable\, ap
 propriate clothing for games\, crafts\, sitting on the floor\, and chapel.
   Undergarments should not be visible through shirts or shorts.\n\nWhat t
 o Bring:  Please leave electronics at home.  Please bring your own toile
 tries\, musical instruments like guitars or ukuleles\, a "talent" that you
  wish to share\, and comfortable shoes for walking/playing outside.  Line
 ns and towels are provided in the rooms.  Youth sleep 2-3 per room.  Ema
 il Mother Jane-Allison at jwigginnettles@edola.org with any roommate reque
 sts.\n\nMedical Release Forms must be filled out in order to complete regi
 stration.  Click on the link below:\n\nMedical Release Forms
CATEGORIES:Youth Open Events
END:VEVENT
BEGIN:VTIMEZONE
TZID:America/Chicago
X-LIC-LOCATION:America/Chicago
BEGIN:DAYLIGHT
DTSTART:20190310T030000
TZOFFSETFROM:-0600
TZOFFSETTO:-0500
TZNAME:CDT
END:DAYLIGHT
END:VTIMEZONE
END:VCALENDAR