BEGIN:VCALENDAR
VERSION:2.0
PRODID:-//wp-events-plugin.com//7.2.3.1//EN
TZID:America/Chicago
X-WR-TIMEZONE:America/Chicago
BEGIN:VEVENT
UID:46@seccla.org
DTSTART;TZID=America/Chicago:20200707T090000
DTEND;TZID=America/Chicago:20200707T150000
DTSTAMP:20200626T220920Z
URL:https://seccla.org/events2/july-7th/
SUMMARY:July 7th Clergy Day - Jefferson & Southwest Deaneries
DESCRIPTION:Clergy and families.\nA day to relax\, swim\, fish\, take walks
 \, play basketball\, and volleyball.  Or even to play disc golf on the ne
 w Solomon course! Lunch will be provided by the very talented Chef Jeff. N
 o Chapel time for this event.  Just relaxation.  There will be a short m
 eeting with the Bishop and the rest of the day is all about you.\nThis eve
 nt is compliments of Bishop Morris K. Thompson\, Jr.
CATEGORIES:Clergy/Laity Meetings
END:VEVENT
BEGIN:VTIMEZONE
TZID:America/Chicago
X-LIC-LOCATION:America/Chicago
BEGIN:DAYLIGHT
DTSTART:20200308T030000
TZOFFSETFROM:-0600
TZOFFSETTO:-0500
TZNAME:CDT
END:DAYLIGHT
END:VTIMEZONE
END:VCALENDAR