BEGIN:VCALENDAR
VERSION:2.0
PRODID:-//wp-events-plugin.com//7.2.3.1//EN
TZID:America/Chicago
X-WR-TIMEZONE:America/Chicago
BEGIN:VEVENT
UID:109@seccla.org
DTSTART;TZID=America/Chicago:20240216T160000
DTEND;TZID=America/Chicago:20240218T110000
DTSTAMP:20240109T210357Z
URL:https://seccla.org/events2/secc-silent-retreat-2024/
SUMMARY:SECC Silent Retreat 2024
DESCRIPTION:Silent Retreat Weekend\n\nFebruary 16th – 18th\, 2024\n\nRene
 w and discover the inner peace that is found in silence.\n\nSECC Parable R
 etreat will include reflection and preaching on gospel parables during mor
 ning prayer\,\n\nHoly Eucharist\, and evening prayer.\n\nThis will all be 
 entwined with contemplative silence.\n\nThe retreat will be led by\n\nFath
 er John Pitzer of Trinity Episcopal Church\, New Orleans.\n\n&nbsp\;\n\nRe
 gistration is 4 - 6pm on Friday\, February 16th and\n\nconcludes at 9:30am
  on Sunday\, February 18th after the Eucharist.\n\nThe registration fee is
  $375 per person which includes private lodging and 5 chef-prepared meals.
 \n\nThis promises to be a weekend to remember!\n\nTo book your spot\, visi
 t www.SeccLa.org or call 985.748.6634
ATTACH;FMTTYPE=image/jpeg:https://seccla.org/wp-content/uploads/2023/02/SE
 CC.jpg
CATEGORIES:Adult Open Events,Upcoming Events
END:VEVENT
BEGIN:VTIMEZONE
TZID:America/Chicago
X-LIC-LOCATION:America/Chicago
BEGIN:STANDARD
DTSTART:20231105T010000
TZOFFSETFROM:-0500
TZOFFSETTO:-0600
TZNAME:CST
END:STANDARD
END:VTIMEZONE
END:VCALENDAR