BEGIN:VCALENDAR
VERSION:2.0
PRODID:-//wp-events-plugin.com//7.2.3.1//EN
TZID:America/Chicago
X-WR-TIMEZONE:America/Chicago
BEGIN:VEVENT
UID:119@seccla.org
DTSTART;TZID=America/Chicago:20241206T150000
DTEND;TZID=America/Chicago:20241207T120000
DTSTAMP:20241124T221729Z
URL:https://seccla.org/events2/st-albans-advent-retreat-2024/
SUMMARY:St. Alban's Advent Retreat 2024
DESCRIPTION:St. Alban's Advent Retreat 2024\n\nThis Advent retreat will be 
 December 6 &amp\; 7\, 2024 arriving at 3pm  and departing Saturday at 12p
 m. You will enjoy an overnight stay with 2 wonderful meals during your tim
 e here at the center. Please come out and have a wonderful time at SECC. C
 lick for Brochure\n\n
ATTACH;FMTTYPE=image/jpeg:https://seccla.org/wp-content/uploads/2023/11/St
 -Albans-Advent-Retreat-2024.jpg
CATEGORIES:Adult Open Events,Upcoming Events
END:VEVENT
BEGIN:VTIMEZONE
TZID:America/Chicago
X-LIC-LOCATION:America/Chicago
BEGIN:STANDARD
DTSTART:20241103T010000
TZOFFSETFROM:-0500
TZOFFSETTO:-0600
TZNAME:CST
END:STANDARD
END:VTIMEZONE
END:VCALENDAR